BEGIN:VCALENDAR
VERSION:2.0
PRODID:-//Observatorio de Producción Local y Consumo Sostenible - ECPv5.16.3.1//NONSGML v1.0//EN
CALSCALE:GREGORIAN
METHOD:PUBLISH
X-WR-CALNAME:Observatorio de Producción Local y Consumo Sostenible
X-ORIGINAL-URL:https://oplcs.org
X-WR-CALDESC:Events for Observatorio de Producción Local y Consumo Sostenible
REFRESH-INTERVAL;VALUE=DURATION:PT1H
X-Robots-Tag:noindex
X-PUBLISHED-TTL:PT1H
BEGIN:VTIMEZONE
TZID:Europe/Madrid
BEGIN:DAYLIGHT
TZOFFSETFROM:+0100
TZOFFSETTO:+0200
TZNAME:CEST
DTSTART:20220327T010000
END:DAYLIGHT
BEGIN:STANDARD
TZOFFSETFROM:+0200
TZOFFSETTO:+0100
TZNAME:CET
DTSTART:20221030T010000
END:STANDARD
END:VTIMEZONE
BEGIN:VEVENT
DTSTART;TZID=Europe/Madrid:20221027T163000
DTEND;TZID=Europe/Madrid:20221027T180000
DTSTAMP:20260423T101010
CREATED:20221007T114306Z
LAST-MODIFIED:20221007T114306Z
UID:681-1666888200-1666893600@oplcs.org
SUMMARY:El consumo sostenible y las empresas sociales
DESCRIPTION:El próximo jueves 27 de octubre\, de 16:30 a 18:00 h. (hora española) tendrá lugar una jornada online\, organizada por el Observatorio de Producción Local y Consumo Sostenible en colaboración con la Cátedra Fundación Areces de Distribución Comercial\, bajo el título “El consumo sostenible y las empresas sociales”. \nEn dicha jornada Silvia Cachero Martínez y Nuria García Rodríguez (miembros del OPLCS y de la Cátedra Fundación Areces de Distribución Comercial) realizarán una exposición de las evidencias y resultados obtenidos en el marco del Proyecto “Co-Creseo” en cuanto a las dimensiones clave en la demanda de productos de empresas sociales. Tras lo anterior\, Luis de Sande hablará de su experiencia al frente de la empresa social AUARA y de su compromiso con la sostenibilidad. \nLa inscripción es gratuita. Para asistir\, solo hay que registrarse aquí.
URL:https://oplcs.org/event/el-consumo-sostenible-y-las-empresas-sociales/
CATEGORIES:Jornada
ATTACH;FMTTYPE=image/jpeg:https://oplcs.org/wp-content/uploads/2022/10/ESocial.jpg
END:VEVENT
END:VCALENDAR