BEGIN:VCALENDAR
VERSION:2.0
PRODID:-//Observatorio de Producción Local y Consumo Sostenible - ECPv5.16.3.1//NONSGML v1.0//EN
CALSCALE:GREGORIAN
METHOD:PUBLISH
X-WR-CALNAME:Observatorio de Producción Local y Consumo Sostenible
X-ORIGINAL-URL:https://oplcs.org
X-WR-CALDESC:Events for Observatorio de Producción Local y Consumo Sostenible
REFRESH-INTERVAL;VALUE=DURATION:PT1H
X-Robots-Tag:noindex
X-PUBLISHED-TTL:PT1H
BEGIN:VTIMEZONE
TZID:Europe/Madrid
BEGIN:DAYLIGHT
TZOFFSETFROM:+0100
TZOFFSETTO:+0200
TZNAME:CEST
DTSTART:20230326T010000
END:DAYLIGHT
BEGIN:STANDARD
TZOFFSETFROM:+0200
TZOFFSETTO:+0100
TZNAME:CET
DTSTART:20231029T010000
END:STANDARD
END:VTIMEZONE
BEGIN:VEVENT
DTSTART;TZID=Europe/Madrid:20230620T163000
DTEND;TZID=Europe/Madrid:20230620T180000
DTSTAMP:20260423T000000
CREATED:20230615T084149Z
LAST-MODIFIED:20230615T102544Z
UID:820-1687278600-1687284000@oplcs.org
SUMMARY:Presentación estudio: "El consumo sostenible y los productos certificados 2023"
DESCRIPTION:El próximo martes 20 de junio\, de 16:30 a 18:00 h. (hora española) desde el Observatorio de Producción Local y Consumo Sostenible hemos organizado una jornada online en la que se presentará nuestro barómetro anual “El consumo sostenible y los productos certificados 2023″. Durante este encuentro\, analizaremos la evolución del consumo sostenible en los últimos años y el momento en el que estamos. \nContaremos con la participación de dos ponentes que agregarán un gran valor a esta jornada. Xavier Moraño\, miembro de ClicKoala y del Observatorio\, nos presentará los resultados obtenidos en España. Irene Garnelo\, destacada docente e investigadora de la Henley Business School en el Reino Unido\, nos hablará sobre las diferencias y similitudes entre los datos obtenidos en España y en el Reino Unido. Además\, reservaremos un tiempo al final para que los asistentes puedan plantear sus preguntas y participar en el debate. \nLa inscripción es gratuita. Para asistir\, solo hay que registrarse aquí (el registro es necesario para quienes deseen certificado de asistencia).
URL:https://oplcs.org/event/presentacion_estudio_consumo_sostenible_2023/
CATEGORIES:Jornada
ATTACH;FMTTYPE=image/jpeg:https://oplcs.org/wp-content/uploads/2023/06/Portada-Estudio-2.jpg
END:VEVENT
END:VCALENDAR