BEGIN:VCALENDAR
VERSION:2.0
PRODID:-//Observatorio de Producción Local y Consumo Sostenible - ECPv5.16.3.1//NONSGML v1.0//EN
CALSCALE:GREGORIAN
METHOD:PUBLISH
X-WR-CALNAME:Observatorio de Producción Local y Consumo Sostenible
X-ORIGINAL-URL:https://oplcs.org
X-WR-CALDESC:Events for Observatorio de Producción Local y Consumo Sostenible
REFRESH-INTERVAL;VALUE=DURATION:PT1H
X-Robots-Tag:noindex
X-PUBLISHED-TTL:PT1H
BEGIN:VTIMEZONE
TZID:Europe/Madrid
BEGIN:DAYLIGHT
TZOFFSETFROM:+0100
TZOFFSETTO:+0200
TZNAME:CEST
DTSTART:20220327T010000
END:DAYLIGHT
BEGIN:STANDARD
TZOFFSETFROM:+0200
TZOFFSETTO:+0100
TZNAME:CET
DTSTART:20221030T010000
END:STANDARD
END:VTIMEZONE
BEGIN:VEVENT
DTSTART;TZID=Europe/Madrid:20220927T160000
DTEND;TZID=Europe/Madrid:20220927T183000
DTSTAMP:20260423T113325
CREATED:20220923T054334Z
LAST-MODIFIED:20220923T054334Z
UID:563-1664294400-1664303400@oplcs.org
SUMMARY:Turismo rural: responsabilidad y sostenibilidad como pautas de futuro
DESCRIPTION:El próximo martes 27 de septiembre\, de 16:00 a 18:30 h. (hora española) tendrá lugar una jornada online\, organizada por el Observatorio de Producción Local y Consumo Sostenible en colaboración con la Asociación Leonesa de Empresarios de Turismo Rural (ALETUR)\, bajo el título “Turismo rural: responsabilidad y sostenibilidad como pautas de futuro”\, en el marco de actos conmemorativos del Día Mundial del Turismo que Naciones Unidas promueve a través de la Organización Mundial del Turismo UNWTO (World Tourism Day 2022). \nEn dicha jornada tendrán lugar diferentes intervenciones en las que Jesús del Río (ALETUR)\, Jose Antonio Cuñarro (La Asociación del Camino Olvidado)\, Patricia Quintana (Jopeful)\, Alejandro Díez (Gilbo Marketing Turístico) Javier de la Viuda (Dirty Moustache Bikes)\, Juan Sebastián Mahecha (Bonobo Adventures) y Laura Magallanes (Rancho Nuevo) hablarán de sus experiencias del día a día en España\, México y Colombia. Tras lo anterior\, tendrá lugar la intervención de Xavier Moraño (ClicKoala) en relación con los sellos y certificados de sostenibilidad en el sector turístico\, y el acto finalizará con la presentación de la Edición del Premio OPLCS-ALETUR sobre Turismo Responsable y Sostenible 2022. \nLa inscripción es gratuita. Para asistir\, solo hay que registrarse aquí.
URL:https://oplcs.org/event/turismo-rural-responsabilidad-y-sostenibilidad-como-pautas-de-futuro/
CATEGORIES:Jornada
ATTACH;FMTTYPE=image/jpeg:https://oplcs.org/wp-content/uploads/2022/09/woman-hand-holding-camera-and-standing-on-top-of-the-rock-in-nature-travel-concept.jpg
END:VEVENT
END:VCALENDAR